BEGIN:VCALENDAR
VERSION:2.0
PRODID:-//Scott Air Force Base - ECPv6.15.20//NONSGML v1.0//EN
CALSCALE:GREGORIAN
METHOD:PUBLISH
X-WR-CALNAME:Scott Air Force Base
X-ORIGINAL-URL:https://375fss.com
X-WR-CALDESC:Events for Scott Air Force Base
REFRESH-INTERVAL;VALUE=DURATION:PT1H
X-Robots-Tag:noindex
X-PUBLISHED-TTL:PT1H
BEGIN:VTIMEZONE
TZID:America/Chicago
BEGIN:DAYLIGHT
TZOFFSETFROM:-0600
TZOFFSETTO:-0500
TZNAME:CDT
DTSTART:20250309T080000
END:DAYLIGHT
BEGIN:STANDARD
TZOFFSETFROM:-0500
TZOFFSETTO:-0600
TZNAME:CST
DTSTART:20251102T070000
END:STANDARD
BEGIN:DAYLIGHT
TZOFFSETFROM:-0600
TZOFFSETTO:-0500
TZNAME:CDT
DTSTART:20260308T080000
END:DAYLIGHT
BEGIN:STANDARD
TZOFFSETFROM:-0500
TZOFFSETTO:-0600
TZNAME:CST
DTSTART:20261101T070000
END:STANDARD
BEGIN:DAYLIGHT
TZOFFSETFROM:-0600
TZOFFSETTO:-0500
TZNAME:CDT
DTSTART:20270314T080000
END:DAYLIGHT
BEGIN:STANDARD
TZOFFSETFROM:-0500
TZOFFSETTO:-0600
TZNAME:CST
DTSTART:20271107T070000
END:STANDARD
BEGIN:DAYLIGHT
TZOFFSETFROM:-0600
TZOFFSETTO:-0500
TZNAME:CDT
DTSTART:20280312T080000
END:DAYLIGHT
BEGIN:STANDARD
TZOFFSETFROM:-0500
TZOFFSETTO:-0600
TZNAME:CST
DTSTART:20281105T070000
END:STANDARD
END:VTIMEZONE
BEGIN:VEVENT
DTSTART;VALUE=DATE:20260101
DTEND;VALUE=DATE:20260601
DTSTAMP:20260424T101501
CREATED:20250918T205547Z
LAST-MODIFIED:20260316T142815Z
UID:10005219-1767225600-1780271999@375fss.com
SUMMARY:Upcoming Performances at the Fabulous Fox Theatre!
DESCRIPTION:Get ready for an unforgettable season of world-class entertainment at the legendary Fabulous Fox Theatre in St. Louis! From Broadway blockbusters and spellbinding musicals\, the Fox has something for everyone. Grab your tickets now and experience the best of live entertainment at the Fabulous Fox. Pricing and seating vary so call to get ticketing details. \nUpcoming Shows: \nHarry Potter and the Cursed Child – – Mar 28 – Apr 18\nBeetlejuice – – Apr 24 – Apr 26\nMonty Python’s Spamalot – – May 5 – 17\nMJ The Musical – – May 19 – 24\nHadestown – – May 29 – 31\nBlue Man Group – – June 5\, 6\, 7\n\nPay less than box office prices\, skip the tax\, and score discounted tickets with ITT! Call Information\, Tickets & Travel at (618) 256-5919.
URL:https://375fss.com/event/upcoming-performances-at-the-fabulous-fox-theatre/
LOCATION:IL
CATEGORIES:ITT
ATTACH;FMTTYPE=image/jpeg:https://375fss.com/wp-content/uploads/2025/09/FoxTheatre_2.jpg
END:VEVENT
BEGIN:VEVENT
DTSTART;VALUE=DATE:20260317
DTEND;VALUE=DATE:20270502
DTSTAMP:20260424T101501
CREATED:20260317T194834Z
LAST-MODIFIED:20260317T201009Z
UID:10005325-1773705600-1809215999@375fss.com
SUMMARY:24/7 Fitness at Scott
DESCRIPTION:Click Here to Learn More About Registering For 24-Hour Fitness!
URL:https://375fss.com/event/24-7-fitness-at-scott/
LOCATION:IL
CATEGORIES:Fitness,permanent
ATTACH;FMTTYPE=image/jpeg:https://375fss.com/wp-content/uploads/2026/03/247-Fitness-Access.jpg
END:VEVENT
BEGIN:VEVENT
DTSTART;VALUE=DATE:20260330
DTEND;VALUE=DATE:20260901
DTSTAMP:20260424T101501
CREATED:20260302T144619Z
LAST-MODIFIED:20260302T144619Z
UID:10005311-1774828800-1788220799@375fss.com
SUMMARY:Kids Bowl Free
DESCRIPTION:Click Here to Sign Up!\nKids ages 17 and under can Bowl Free\, March 30-August 31\, 2026\, at the Stars & Strikes Bowling Center! To get started\, sign up @ KidsBowlFree.com: Stars & Strikes Bowling Center and start receiving your coupons! \nRegistered kids will receive 2 Free Games of Bowling EVERY DAY. A value of over $800 per child! In addition\, families have the opportunity to add up to four other adults and receive the same 2 Free Games Daily Benefit. Call Stars & Strikes\, (618) 744-1277.
URL:https://375fss.com/event/kids-bowl-free/
LOCATION:Stars & Strikes Bowling Center\, 311 W Martin St #1934\, Scott AFB\, IL\, 62225\, United States
CATEGORIES:Stars & Strikes Bowling Center
ATTACH;FMTTYPE=image/jpeg:https://375fss.com/wp-content/uploads/2026/03/Kids-Bowl-Free-slide-2026.jpg
END:VEVENT
BEGIN:VEVENT
DTSTART;VALUE=DATE:20260409
DTEND;VALUE=DATE:20260701
DTSTAMP:20260424T101501
CREATED:20260410T163932Z
LAST-MODIFIED:20260410T163932Z
UID:10005346-1775692800-1782863999@375fss.com
SUMMARY:LIFEGUARDS WANTED AT SCOTT AFB
DESCRIPTION:Click Here to See Current Job Listings!\nInterested in working at the Scott Air Force Base Pool as a lifeguard this summer\, now is the time to get certified and apply! Job openings are now posted\, visit https://www.usajobs.gov/ keyword: lifeguard. Jobs starting at $16 per hour. Applicants must be 16 years old to apply and hold a lifeguard certification.
URL:https://375fss.com/event/lifeguards-wanted/
LOCATION:IL
CATEGORIES:Hot Events,Outdoor Recreation,permanent
ATTACH;FMTTYPE=image/jpeg:https://375fss.com/wp-content/uploads/2026/04/LifeguardCampaign_1.jpg
END:VEVENT
BEGIN:VEVENT
DTSTART;TZID=America/Chicago:20260424T190000
DTEND;TZID=America/Chicago:20260425T070000
DTSTAMP:20260424T101501
CREATED:20260128T195702Z
LAST-MODIFIED:20260318T163609Z
UID:10005288-1777057200-1777100400@375fss.com
SUMMARY:Teen Lock-In: Operation Megaphone
DESCRIPTION:Teens ages 13-18\, get ready for an overnight teen lock-in packed with action and connection April 24-25\, 7 p.m. to 7 a.m. Teens will take on fun team-building challenges\, play laser tag\, and network with teens from other bases. Dinner\, snacks\, and breakfast will be provided. Cost is $20 for members and $30 for non-members. Register on CYP-BMS by April 15. \nFor more information\, call the Youth Center\, 618-256-5139.
URL:https://375fss.com/event/teen-lock-in-operation-megaphone/
LOCATION:IL
CATEGORIES:Hot Events,Youth Center
ATTACH;FMTTYPE=image/jpeg:https://375fss.com/wp-content/uploads/2026/01/YC-Teen-Lock-In-Apr-24-25-26.jpg
END:VEVENT
BEGIN:VEVENT
DTSTART;TZID=America/Chicago:20260428T170000
DTEND;TZID=America/Chicago:20260428T190000
DTSTAMP:20260424T101501
CREATED:20260402T140225Z
LAST-MODIFIED:20260402T140225Z
UID:10005337-1777395600-1777402800@375fss.com
SUMMARY:Bridgerton Series: Fascinators
DESCRIPTION:It is well known that in matters of society\, one’s attire speaks volumes before a single word is uttered. You are most cordially invited to a fashionable affair where creativity and elegance intertwine\, as guests design and craft their own exquisite fascinators. \nWith an array of fine materials at your disposal\, each creation shall be as unique and striking as its wearer—perfect for making a memorable impression at any gathering of note. \nTuesday\, April 28 – Arts & Crafts Ctr | 5:00-7:00p | $20 | ages 13+ | Register by Apr. 20 \nAfter all\, in a season such as this\, one simply must be seen… and remembered. Call the Arts & Crafts Center to register\, 618-256-6033.
URL:https://375fss.com/event/bridgerton-series-fascinators/
LOCATION:Arts & Crafts Center\, 701 Ward Dr\, Scott AFB\, IL\, 62225\, United States
CATEGORIES:Arts & Crafts Center,Hot Events
ATTACH;FMTTYPE=image/jpeg:https://375fss.com/wp-content/uploads/2026/04/BridgertonDigitalMonitor_4.jpg
END:VEVENT
BEGIN:VEVENT
DTSTART;TZID=America/Chicago:20260430T100000
DTEND;TZID=America/Chicago:20260430T140000
DTSTAMP:20260424T101501
CREATED:20260311T201041Z
LAST-MODIFIED:20260311T201041Z
UID:10005319-1777543200-1777557600@375fss.com
SUMMARY:Mobile DMV
DESCRIPTION:The Illinois Department of Motor Vehicles (DMV) Mobile Unit will be at SAFB to provide basic vehicle services for on-base customers. Anyone in need of driver license renewals\, ID cards\, vehicle registration\, Real ID\, and road tests can use this convenient service. \n\nLocation: Zeppelins at the Event Center\nDate: April 30\nTime: 10:00 am – 2:00 pm\nPayment Options: Major credit/debit cards\, checks and money orders\nCash is not accepted\n\nFor specific questions\, contact the Belleville DMV at 618-236-8750.
URL:https://375fss.com/event/mobile-dmv-april/
LOCATION:Scott Event Center\, 47 Ward Dr\, Scott AFB\, IL\, 62225\, United States
CATEGORIES:Hot Events,Scott Event Center
ATTACH;FMTTYPE=image/jpeg:https://375fss.com/wp-content/uploads/2026/03/dmv_apr.jpg
END:VEVENT
END:VCALENDAR